Package: onlineFDR Version: 2.12.0 Command: /home/biocbuild/bbs-3.19-bioc/R/bin/R CMD build --keep-empty-dirs --no-resave-data onlineFDR StartedAt: 2024-10-16 19:54:30 -0400 (Wed, 16 Oct 2024) EndedAt: 2024-10-16 19:55:44 -0400 (Wed, 16 Oct 2024) EllapsedTime: 74.2 seconds RetCode: 0 Status: OK PackageFile: onlineFDR_2.12.0.tar.gz PackageFileSize: 1.917 MiB