Package: onlineFDR Version: 2.12.0 Command: /Library/Frameworks/R.framework/Resources/bin/R CMD check --install=check:onlineFDR.install-out.txt --library=/Library/Frameworks/R.framework/Resources/library --no-vignettes --timings onlineFDR_2.12.0.tar.gz StartedAt: 2024-06-09 22:00:01 -0400 (Sun, 09 Jun 2024) EndedAt: 2024-06-09 22:00:39 -0400 (Sun, 09 Jun 2024) EllapsedTime: 37.6 seconds RetCode: 0 Status: OK CheckDir: onlineFDR.Rcheck Warnings: 0