Package: oncoscanR Version: 1.6.0 Command: /Library/Frameworks/R.framework/Resources/bin/R CMD build --keep-empty-dirs --no-resave-data oncoscanR StartedAt: 2024-10-16 21:43:50 -0400 (Wed, 16 Oct 2024) EndedAt: 2024-10-16 21:52:24 -0400 (Wed, 16 Oct 2024) EllapsedTime: 513.9 seconds RetCode: 0 Status: OK PackageFile: oncoscanR_1.6.0.tar.gz PackageFileSize: 989.6 KiB