Package: ompBAM Version: 1.8.0 Command: /Library/Frameworks/R.framework/Resources/bin/R CMD build --keep-empty-dirs --no-resave-data ompBAM StartedAt: 2024-10-16 21:43:32 -0400 (Wed, 16 Oct 2024) EndedAt: 2024-10-16 21:44:20 -0400 (Wed, 16 Oct 2024) EllapsedTime: 47.4 seconds RetCode: 0 Status: OK PackageFile: ompBAM_1.8.0.tar.gz PackageFileSize: 3.142 MiB