Package: ompBAM Version: 1.8.0 Command: /Library/Frameworks/R.framework/Resources/bin/R CMD check --install=check:ompBAM.install-out.txt --library=/Library/Frameworks/R.framework/Resources/library --no-vignettes --timings ompBAM_1.8.0.tar.gz StartedAt: 2024-06-11 00:19:18 -0400 (Tue, 11 Jun 2024) EndedAt: 2024-06-11 00:21:07 -0400 (Tue, 11 Jun 2024) EllapsedTime: 109.0 seconds RetCode: 0 Status: OK CheckDir: ompBAM.Rcheck Warnings: 0