Package: oligo Version: 1.68.2 Command: rm -rf oligo.buildbin-libdir && mkdir oligo.buildbin-libdir && /Users/biocbuild/BBS/utils/build-universal.sh oligo_1.68.2.tar.gz /Library/Frameworks/R.framework/Resources/bin/R oligo.buildbin-libdir StartedAt: 2024-10-18 19:47:57 -0400 (Fri, 18 Oct 2024) EndedAt: 2024-10-18 19:48:53 -0400 (Fri, 18 Oct 2024) EllapsedTime: 55.7 seconds RetCode: 0 Status: OK PackageFile: oligo_1.68.2.tgz PackageFileSize: 27.85 MiB