Package: nullranges Version: 1.10.0 Command: E:\biocbuild\bbs-3.19-bioc\R\bin\R.exe CMD INSTALL nullranges StartedAt: 2024-10-16 16:27:25 -0400 (Wed, 16 Oct 2024) EndedAt: 2024-10-16 16:28:35 -0400 (Wed, 16 Oct 2024) EllapsedTime: 69.8 seconds RetCode: 0 Status: OK