Package: netresponse Version: 1.64.0 Command: /home/biocbuild/R/R-beta-2024-04-15_r86425/bin/R CMD build --keep-empty-dirs --no-resave-data netresponse StartedAt: 2024-05-09 02:07:39 -0000 (Thu, 09 May 2024) EndedAt: 2024-05-09 02:07:56 -0000 (Thu, 09 May 2024) EllapsedTime: 17.0 seconds RetCode: 0 Status: OK PackageFile: netresponse_1.64.0.tar.gz PackageFileSize: 999.4 KiB