Package: netresponse Version: 1.64.0 Command: /Library/Frameworks/R.framework/Resources/bin/R CMD check --install=check:netresponse.install-out.txt --library=/Library/Frameworks/R.framework/Resources/library --no-vignettes --timings netresponse_1.64.0.tar.gz StartedAt: 2024-06-10 23:48:19 -0400 (Mon, 10 Jun 2024) EndedAt: 2024-06-10 23:50:48 -0400 (Mon, 10 Jun 2024) EllapsedTime: 149.2 seconds RetCode: 0 Status: OK CheckDir: netresponse.Rcheck Warnings: 0