Package: netresponse Version: 1.64.0 Command: /Library/Frameworks/R.framework/Resources/bin/R CMD check --install=check:netresponse.install-out.txt --library=/Library/Frameworks/R.framework/Resources/library --no-vignettes --timings netresponse_1.64.0.tar.gz StartedAt: 2024-10-18 05:58:12 -0400 (Fri, 18 Oct 2024) EndedAt: 2024-10-18 05:59:47 -0400 (Fri, 18 Oct 2024) EllapsedTime: 95.3 seconds RetCode: 0 Status: OK CheckDir: netresponse.Rcheck Warnings: 0