Package: netZooR Version: 1.8.0 Command: F:\biocbuild\bbs-3.19-bioc\R\bin\R.exe CMD check --no-multiarch --install=check:netZooR.install-out.txt --library=F:\biocbuild\bbs-3.19-bioc\R\library --no-vignettes --timings netZooR_1.8.0.tar.gz StartedAt: 2024-06-27 04:13:17 -0400 (Thu, 27 Jun 2024) EndedAt: 2024-06-27 04:22:35 -0400 (Thu, 27 Jun 2024) EllapsedTime: 558.4 seconds RetCode: 0 Status: OK CheckDir: netZooR.Rcheck Warnings: 0