Package: netZooR Version: 1.8.0 Command: /Library/Frameworks/R.framework/Resources/bin/R CMD build --keep-empty-dirs --no-resave-data netZooR StartedAt: 2024-10-16 21:35:39 -0400 (Wed, 16 Oct 2024) EndedAt: 2024-10-16 21:39:54 -0400 (Wed, 16 Oct 2024) EllapsedTime: 255.5 seconds RetCode: 0 Status: OK PackageFile: netZooR_1.8.0.tar.gz PackageFileSize: 3.112 MiB