Package: netZooR Version: 1.8.0 Command: /Library/Frameworks/R.framework/Resources/bin/R CMD check --install=check:netZooR.install-out.txt --library=/Library/Frameworks/R.framework/Resources/library --no-vignettes --timings netZooR_1.8.0.tar.gz StartedAt: 2024-06-10 23:50:34 -0400 (Mon, 10 Jun 2024) EndedAt: 2024-06-11 00:04:29 -0400 (Tue, 11 Jun 2024) EllapsedTime: 835.4 seconds RetCode: 0 Status: OK CheckDir: netZooR.Rcheck Warnings: 0