Package: netOmics Version: 1.10.0 Command: /Library/Frameworks/R.framework/Resources/bin/R CMD INSTALL netOmics StartedAt: 2024-06-09 17:27:52 -0400 (Sun, 09 Jun 2024) EndedAt: 2024-06-09 17:28:21 -0400 (Sun, 09 Jun 2024) EllapsedTime: 28.6 seconds RetCode: 0 Status: OK