Package: nempi Version: 1.12.0 Command: E:\biocbuild\bbs-3.19-bioc\R\bin\R.exe CMD check --no-multiarch --install=check:nempi.install-out.txt --library=E:\biocbuild\bbs-3.19-bioc\R\library --no-vignettes --timings nempi_1.12.0.tar.gz StartedAt: 2024-10-17 03:56:16 -0400 (Thu, 17 Oct 2024) EndedAt: 2024-10-17 03:58:51 -0400 (Thu, 17 Oct 2024) EllapsedTime: 154.3 seconds RetCode: 0 Status: OK CheckDir: nempi.Rcheck Warnings: 0