Package: ndexr Version: 1.26.0 Command: /home/biocbuild/bbs-3.19-bioc/R/bin/R CMD INSTALL ndexr StartedAt: 2024-10-16 15:53:52 -0400 (Wed, 16 Oct 2024) EndedAt: 2024-10-16 15:53:55 -0400 (Wed, 16 Oct 2024) EllapsedTime: 3.2 seconds RetCode: 0 Status: OK