Package: mygene Version: 1.40.0 Command: F:\biocbuild\bbs-3.19-bioc\R\bin\R.exe CMD INSTALL mygene StartedAt: 2024-06-26 16:18:49 -0400 (Wed, 26 Jun 2024) EndedAt: 2024-06-26 16:19:43 -0400 (Wed, 26 Jun 2024) EllapsedTime: 54.0 seconds RetCode: 0 Status: OK