Package: muscle Version: 3.46.0 Command: /Library/Frameworks/R.framework/Resources/bin/R CMD check --install=check:muscle.install-out.txt --library=/Library/Frameworks/R.framework/Resources/library --no-vignettes --timings muscle_3.46.0.tar.gz StartedAt: 2024-10-18 05:35:01 -0400 (Fri, 18 Oct 2024) EndedAt: 2024-10-18 05:36:28 -0400 (Fri, 18 Oct 2024) EllapsedTime: 86.8 seconds RetCode: 0 Status: WARNINGS CheckDir: muscle.Rcheck Warnings: 2