Package: multiClust Version: 1.34.0 Command: chmod a+r multiClust -R && E:\biocbuild\bbs-3.19-bioc\R\bin\R.exe CMD build --keep-empty-dirs --no-resave-data multiClust StartedAt: 2024-10-16 20:35:26 -0400 (Wed, 16 Oct 2024) EndedAt: 2024-10-16 20:36:12 -0400 (Wed, 16 Oct 2024) EllapsedTime: 45.9 seconds RetCode: 0 Status: OK PackageFile: multiClust_1.34.0.tar.gz PackageFileSize: 2.933 MiB