Package: msqrob2 Version: 1.12.0 Command: F:\biocbuild\bbs-3.19-bioc\R\bin\R.exe CMD check --no-multiarch --install=check:msqrob2.install-out.txt --library=F:\biocbuild\bbs-3.19-bioc\R\library --no-vignettes --timings msqrob2_1.12.0.tar.gz StartedAt: 2024-06-27 03:57:48 -0400 (Thu, 27 Jun 2024) EndedAt: 2024-06-27 04:03:41 -0400 (Thu, 27 Jun 2024) EllapsedTime: 353.0 seconds RetCode: 0 Status: OK CheckDir: msqrob2.Rcheck Warnings: 0