Package: msImpute Version: 1.14.0 Command: F:\biocbuild\bbs-3.19-bioc\R\bin\R.exe CMD INSTALL msImpute StartedAt: 2024-06-26 16:44:56 -0400 (Wed, 26 Jun 2024) EndedAt: 2024-06-26 16:45:36 -0400 (Wed, 26 Jun 2024) EllapsedTime: 40.4 seconds RetCode: 0 Status: OK