Package: msImpute Version: 1.14.0 Command: /Library/Frameworks/R.framework/Resources/bin/R CMD check --install=check:msImpute.install-out.txt --library=/Library/Frameworks/R.framework/Resources/library --no-vignettes --timings msImpute_1.14.0.tar.gz StartedAt: 2024-10-18 05:06:42 -0400 (Fri, 18 Oct 2024) EndedAt: 2024-10-18 05:10:45 -0400 (Fri, 18 Oct 2024) EllapsedTime: 242.5 seconds RetCode: 0 Status: OK CheckDir: msImpute.Rcheck Warnings: 0