Package: motifbreakR Version: 2.18.0 Command: /home/biocbuild/bbs-3.19-bioc/R/bin/R CMD INSTALL motifbreakR StartedAt: 2024-10-16 16:24:39 -0400 (Wed, 16 Oct 2024) EndedAt: 2024-10-16 16:25:46 -0400 (Wed, 16 Oct 2024) EllapsedTime: 66.7 seconds RetCode: 0 Status: OK