Package: motifbreakR Version: 2.18.0 Command: /home/biocbuild/R/R-beta-2024-04-15_r86425/bin/R CMD build --keep-empty-dirs --no-resave-data motifbreakR StartedAt: 2024-05-09 01:51:21 -0000 (Thu, 09 May 2024) EndedAt: 2024-05-09 02:00:38 -0000 (Thu, 09 May 2024) EllapsedTime: 556.7 seconds RetCode: 0 Status: OK PackageFile: motifbreakR_2.18.0.tar.gz PackageFileSize: 2.024 MiB