Package: motifTestR Version: 1.0.3 Command: /Library/Frameworks/R.framework/Resources/bin/R CMD build --keep-empty-dirs --no-resave-data motifTestR StartedAt: 2024-06-10 01:08:01 -0400 (Mon, 10 Jun 2024) EndedAt: 2024-06-10 01:09:16 -0400 (Mon, 10 Jun 2024) EllapsedTime: 74.5 seconds RetCode: 0 Status: OK PackageFile: motifTestR_1.0.3.tar.gz PackageFileSize: 826.3 KiB