Package: mosaics Version: 2.42.0 Command: E:\biocbuild\bbs-3.19-bioc\R\bin\R.exe CMD INSTALL mosaics StartedAt: 2024-10-16 16:22:29 -0400 (Wed, 16 Oct 2024) EndedAt: 2024-10-16 16:23:40 -0400 (Wed, 16 Oct 2024) EllapsedTime: 71.4 seconds RetCode: 0 Status: OK