Package: mosaics Version: 2.42.0 Command: chmod a+r mosaics -R && F:\biocbuild\bbs-3.19-bioc\R\bin\R.exe CMD build --keep-empty-dirs --no-resave-data mosaics StartedAt: 2024-06-26 20:13:17 -0400 (Wed, 26 Jun 2024) EndedAt: 2024-06-26 20:20:17 -0400 (Wed, 26 Jun 2024) EllapsedTime: 419.9 seconds RetCode: 0 Status: OK PackageFile: mosaics_2.42.0.tar.gz PackageFileSize: 1.852 MiB