Package: monocle Version: 2.32.0 Command: rm -rf monocle.buildbin-libdir && mkdir monocle.buildbin-libdir && F:\biocbuild\bbs-3.19-bioc\R\bin\R.exe CMD INSTALL --build --library=monocle.buildbin-libdir monocle_2.32.0.tar.gz StartedAt: 2024-06-27 08:32:08 -0400 (Thu, 27 Jun 2024) EndedAt: 2024-06-27 08:32:55 -0400 (Thu, 27 Jun 2024) EllapsedTime: 48.0 seconds RetCode: 0 Status: OK PackageFile: monocle_2.32.0.zip PackageFileSize: 1.698 MiB