Package: mogsa Version: 1.38.0 Command: rm -rf mogsa.buildbin-libdir && mkdir mogsa.buildbin-libdir && E:\biocbuild\bbs-3.19-bioc\R\bin\R.exe CMD INSTALL --build --library=mogsa.buildbin-libdir mogsa_1.38.0.tar.gz StartedAt: 2024-10-17 08:10:12 -0400 (Thu, 17 Oct 2024) EndedAt: 2024-10-17 08:10:51 -0400 (Thu, 17 Oct 2024) EllapsedTime: 38.6 seconds RetCode: 0 Status: OK PackageFile: mogsa_1.38.0.zip PackageFileSize: 1.218 MiB