Package: mogsa Version: 1.38.0 Command: /home/biocbuild/bbs-3.19-bioc/R/bin/R CMD build --keep-empty-dirs --no-resave-data mogsa StartedAt: 2024-10-16 19:34:51 -0400 (Wed, 16 Oct 2024) EndedAt: 2024-10-16 19:36:51 -0400 (Wed, 16 Oct 2024) EllapsedTime: 120.2 seconds RetCode: 0 Status: OK PackageFile: mogsa_1.38.0.tar.gz PackageFileSize: 774.8 KiB