Package: mitch Version: 1.16.1 Command: /Library/Frameworks/R.framework/Resources/bin/R CMD build --keep-empty-dirs --no-resave-data mitch StartedAt: 2024-10-16 21:00:37 -0400 (Wed, 16 Oct 2024) EndedAt: 2024-10-16 21:15:42 -0400 (Wed, 16 Oct 2024) EllapsedTime: 905.1 seconds RetCode: 0 Status: OK PackageFile: mitch_1.16.1.tar.gz PackageFileSize: 995.7 KiB