Package: mirTarRnaSeq Version: 1.12.0 Command: /Library/Frameworks/R.framework/Resources/bin/R CMD check --install=check:mirTarRnaSeq.install-out.txt --library=/Library/Frameworks/R.framework/Resources/library --no-vignettes --timings mirTarRnaSeq_1.12.0.tar.gz StartedAt: 2024-10-17 08:52:39 -0400 (Thu, 17 Oct 2024) EndedAt: 2024-10-17 08:55:20 -0400 (Thu, 17 Oct 2024) EllapsedTime: 161.1 seconds RetCode: 0 Status: OK CheckDir: mirTarRnaSeq.Rcheck Warnings: 0