Package: microbiomeMarker Version: 1.10.0 Command: chmod a+r microbiomeMarker -R && E:\biocbuild\bbs-3.19-bioc\R\bin\R.exe CMD build --keep-empty-dirs --no-resave-data microbiomeMarker StartedAt: 2024-10-16 20:17:37 -0400 (Wed, 16 Oct 2024) EndedAt: 2024-10-16 20:20:55 -0400 (Wed, 16 Oct 2024) EllapsedTime: 197.9 seconds RetCode: 0 Status: OK PackageFile: microbiomeMarker_1.10.0.tar.gz PackageFileSize: 2.09 MiB