Package: microSTASIS Version: 1.4.0 Command: chmod a+r microSTASIS -R && F:\biocbuild\bbs-3.19-bioc\R\bin\R.exe CMD build --keep-empty-dirs --no-resave-data microSTASIS StartedAt: 2024-06-26 20:03:38 -0400 (Wed, 26 Jun 2024) EndedAt: 2024-06-26 20:05:04 -0400 (Wed, 26 Jun 2024) EllapsedTime: 86.1 seconds RetCode: 1 Status: ERROR PackageFile: None PackageFileSize: NA