Package: miaViz Version: 1.12.0 Command: /Library/Frameworks/R.framework/Resources/bin/R CMD INSTALL miaViz StartedAt: 2024-06-09 15:39:52 -0400 (Sun, 09 Jun 2024) EndedAt: 2024-06-09 15:40:43 -0400 (Sun, 09 Jun 2024) EllapsedTime: 51.1 seconds RetCode: 0 Status: OK