Package: miaViz Version: 1.12.0 Command: /Library/Frameworks/R.framework/Resources/bin/R CMD build --keep-empty-dirs --no-resave-data miaViz StartedAt: 2024-06-10 00:32:33 -0400 (Mon, 10 Jun 2024) EndedAt: 2024-06-10 00:35:16 -0400 (Mon, 10 Jun 2024) EllapsedTime: 163.1 seconds RetCode: 0 Status: OK PackageFile: miaViz_1.12.0.tar.gz PackageFileSize: 2.679 MiB