Package: miRNAtap Version: 1.38.0 Command: /Library/Frameworks/R.framework/Resources/bin/R CMD check --install=check:miRNAtap.install-out.txt --library=/Library/Frameworks/R.framework/Resources/library --no-vignettes --timings miRNAtap_1.38.0.tar.gz StartedAt: 2024-10-18 04:17:55 -0400 (Fri, 18 Oct 2024) EndedAt: 2024-10-18 04:20:08 -0400 (Fri, 18 Oct 2024) EllapsedTime: 132.9 seconds RetCode: 0 Status: OK CheckDir: miRNAtap.Rcheck Warnings: 0