Package: metapod Version: 1.12.0 Command: /Library/Frameworks/R.framework/Resources/bin/R CMD build --keep-empty-dirs --no-resave-data metapod StartedAt: 2024-10-16 20:40:56 -0400 (Wed, 16 Oct 2024) EndedAt: 2024-10-16 20:42:01 -0400 (Wed, 16 Oct 2024) EllapsedTime: 64.9 seconds RetCode: 0 Status: OK PackageFile: metapod_1.12.0.tar.gz PackageFileSize: 323.5 KiB