Package: matter Version: 2.6.3 Command: E:\biocbuild\bbs-3.19-bioc\R\bin\R.exe CMD INSTALL matter StartedAt: 2024-10-16 16:35:32 -0400 (Wed, 16 Oct 2024) EndedAt: 2024-10-16 16:37:28 -0400 (Wed, 16 Oct 2024) EllapsedTime: 116.0 seconds RetCode: 0 Status: OK