Package: matter Version: 2.6.3 Command: E:\biocbuild\bbs-3.19-bioc\R\bin\R.exe CMD check --no-multiarch --install=check:matter.install-out.txt --library=E:\biocbuild\bbs-3.19-bioc\R\library --no-vignettes --timings matter_2.6.3.tar.gz StartedAt: 2024-10-17 02:58:01 -0400 (Thu, 17 Oct 2024) EndedAt: 2024-10-17 03:01:59 -0400 (Thu, 17 Oct 2024) EllapsedTime: 237.6 seconds RetCode: 0 Status: OK CheckDir: matter.Rcheck Warnings: 0