Package: matter Version: 2.6.3 Command: chmod a+r matter -R && E:\biocbuild\bbs-3.19-bioc\R\bin\R.exe CMD build --keep-empty-dirs --no-resave-data matter StartedAt: 2024-10-16 20:05:24 -0400 (Wed, 16 Oct 2024) EndedAt: 2024-10-16 20:06:49 -0400 (Wed, 16 Oct 2024) EllapsedTime: 85.0 seconds RetCode: 0 Status: OK PackageFile: matter_2.6.3.tar.gz PackageFileSize: 461.7 KiB