Package: matter Version: 2.6.3 Command: /Library/Frameworks/R.framework/Resources/bin/R CMD INSTALL matter StartedAt: 2024-10-16 15:47:11 -0400 (Wed, 16 Oct 2024) EndedAt: 2024-10-16 15:48:50 -0400 (Wed, 16 Oct 2024) EllapsedTime: 99.5 seconds RetCode: 0 Status: OK