Package: matter Version: 2.6.3 Command: /Library/Frameworks/R.framework/Resources/bin/R CMD check --install=check:matter.install-out.txt --library=/Library/Frameworks/R.framework/Resources/library --no-vignettes --timings matter_2.6.3.tar.gz StartedAt: 2024-10-18 02:45:39 -0400 (Fri, 18 Oct 2024) EndedAt: 2024-10-18 02:49:01 -0400 (Fri, 18 Oct 2024) EllapsedTime: 201.5 seconds RetCode: 0 Status: OK CheckDir: matter.Rcheck Warnings: 0