Package: matchBox Version: 1.46.0 Command: rm -rf matchBox.buildbin-libdir && mkdir matchBox.buildbin-libdir && E:\biocbuild\bbs-3.19-bioc\R\bin\R.exe CMD INSTALL --build --library=matchBox.buildbin-libdir matchBox_1.46.0.tar.gz StartedAt: 2024-10-17 08:04:56 -0400 (Thu, 17 Oct 2024) EndedAt: 2024-10-17 08:05:07 -0400 (Thu, 17 Oct 2024) EllapsedTime: 11.4 seconds RetCode: 0 Status: OK PackageFile: matchBox_1.46.0.zip PackageFileSize: 637.8 KiB