Package: matchBox Version: 1.46.0 Command: /Library/Frameworks/R.framework/Resources/bin/R CMD build --keep-empty-dirs --no-resave-data matchBox StartedAt: 2024-10-16 20:32:14 -0400 (Wed, 16 Oct 2024) EndedAt: 2024-10-16 20:32:41 -0400 (Wed, 16 Oct 2024) EllapsedTime: 27.3 seconds RetCode: 0 Status: OK PackageFile: matchBox_1.46.0.tar.gz PackageFileSize: 604.8 KiB