Package: mastR Version: 1.4.0 Command: E:\biocbuild\bbs-3.19-bioc\R\bin\R.exe CMD check --no-multiarch --install=check:mastR.install-out.txt --library=E:\biocbuild\bbs-3.19-bioc\R\library --no-vignettes --timings mastR_1.4.0.tar.gz StartedAt: 2024-10-17 02:57:32 -0400 (Thu, 17 Oct 2024) EndedAt: 2024-10-17 03:23:15 -0400 (Thu, 17 Oct 2024) EllapsedTime: 1543.2 seconds RetCode: 0 Status: OK CheckDir: mastR.Rcheck Warnings: 0