Package: mastR Version: 1.4.0 Command: /Library/Frameworks/R.framework/Resources/bin/R CMD INSTALL mastR StartedAt: 2024-10-16 18:51:13 -0400 (Wed, 16 Oct 2024) EndedAt: 2024-10-16 18:52:03 -0400 (Wed, 16 Oct 2024) EllapsedTime: 49.6 seconds RetCode: 0 Status: OK