Package: logicFS Version: 2.24.0 Command: /home/biocbuild/R/R-beta-2024-04-15_r86425/bin/R CMD build --keep-empty-dirs --no-resave-data logicFS StartedAt: 2024-05-09 01:17:51 -0000 (Thu, 09 May 2024) EndedAt: 2024-05-09 01:18:08 -0000 (Thu, 09 May 2024) EllapsedTime: 17.0 seconds RetCode: 0 Status: OK PackageFile: logicFS_2.24.0.tar.gz PackageFileSize: 253.6 KiB