Package: limpca Version: 1.0.0 Command: rm -rf limpca.buildbin-libdir && mkdir limpca.buildbin-libdir && E:\biocbuild\bbs-3.19-bioc\R\bin\R.exe CMD INSTALL --build --library=limpca.buildbin-libdir limpca_1.0.0.tar.gz StartedAt: 2024-10-10 07:34:50 -0400 (Thu, 10 Oct 2024) EndedAt: 2024-10-10 07:35:23 -0400 (Thu, 10 Oct 2024) EllapsedTime: 33.3 seconds RetCode: 0 Status: OK PackageFile: limpca_1.0.0.zip PackageFileSize: 2.194 MiB