Package: kissDE Version: 1.24.0 Command: F:\biocbuild\bbs-3.19-bioc\R\bin\R.exe CMD check --no-multiarch --install=check:kissDE.install-out.txt --library=F:\biocbuild\bbs-3.19-bioc\R\library --no-vignettes --timings kissDE_1.24.0.tar.gz StartedAt: 2024-06-27 02:59:53 -0400 (Thu, 27 Jun 2024) EndedAt: 2024-06-27 03:07:36 -0400 (Thu, 27 Jun 2024) EllapsedTime: 463.8 seconds RetCode: 0 Status: OK CheckDir: kissDE.Rcheck Warnings: 0